BEGIN:VCALENDAR
VERSION:2.0
PRODID:-//Tukios.com/
BEGIN:VEVENT
UID:3729b8dc-86e1-454e-8ce5-7da4e7071b2b@www.stemmlawsonpeterson.com
DTSTAMP:20260423T010423Z
DTSTART:20260427T180000Z
DTEND:20260427T200000Z
SUMMARY:Visitation
DESCRIPTION:
URL:https://www.stemmlawsonpeterson.com/obituaries/jackie-shanholt
LOCATION:Stemm-Lawson-Peterson Funeral Home  1531 Cobblestone Boulevard  
	Elkhart IN 46514
GEO:41.7045964;-85.917141
END:VEVENT
END:VCALENDAR