BEGIN:VCALENDAR
VERSION:2.0
PRODID:-//Tukios.com/
BEGIN:VEVENT
UID:16e49565-542c-4a46-b35b-f7e3c0c5bb06@www.stemmlawsonpeterson.com
DTSTAMP:20260423T010526Z
DTSTART:20260427T200000Z
DTEND:20260427T210000Z
SUMMARY:Funeral Service
DESCRIPTION:
URL:https://www.stemmlawsonpeterson.com/obituaries/jackie-shanholt
LOCATION:Stemm-Lawson-Peterson Funeral Home  1531 Cobblestone Boulevard  
	Elkhart IN 46514
GEO:41.7045964;-85.917141
END:VEVENT
END:VCALENDAR