BEGIN:VCALENDAR
VERSION:2.0
PRODID:-//Tukios.com/
BEGIN:VEVENT
UID:92049507-737d-48bf-a41a-5aa9101d88c5@www.stemmlawsonpeterson.com
DTSTAMP:20260423T005944Z
DTSTART:20260428T140000Z
DTEND:20260428T141500Z
SUMMARY:Burial
DESCRIPTION:
URL:https://www.stemmlawsonpeterson.com/obituaries/jackie-shanholt
LOCATION:  County Road 19  Goshen IN 
GEO:41.5514538;-85.8668946
END:VEVENT
END:VCALENDAR