BEGIN:VCALENDAR
VERSION:2.0
PRODID:-//Tukios.com/
BEGIN:VEVENT
UID:c0993e8e-de10-4896-942a-c8e8ad5c5dcf@www.stemmlawsonpeterson.com
DTSTAMP:20260424T194626Z
DTSTART:20260509T140000Z
DTEND:20260509T150000Z
SUMMARY:Visitation
DESCRIPTION:
URL:https://www.stemmlawsonpeterson.com/obituaries/jean-demi
LOCATION:Curwensville Christian Church 700 State Street  Curwensville PA 
	16833
GEO:40.976992;-78.53016
END:VEVENT
END:VCALENDAR