BEGIN:VCALENDAR
VERSION:2.0
PRODID:-//Tukios.com/
BEGIN:VEVENT
UID:7a5b3fec-2962-4376-9b80-5472fa19d9b4@www.stemmlawsonpeterson.com
DTSTAMP:20260424T194616Z
DTSTART:20260509T150000Z
DTEND:20260509T153000Z
SUMMARY:Memorial Service
DESCRIPTION:
URL:https://www.stemmlawsonpeterson.com/obituaries/jean-demi
LOCATION:Curwensville Christian Church 700 State St  Curwensville PA 
	16833
GEO:40.9770406;-78.5301006
END:VEVENT
END:VCALENDAR