BEGIN:VCALENDAR
VERSION:2.0
PRODID:-//Tukios.com/
BEGIN:VEVENT
UID:2e9e8979-a527-45a1-a2b5-5c3b1d91ffe1@www.stemmlawsonpeterson.com
DTSTAMP:20260424T194729Z
DTSTART:20260428T150000Z
DTEND:20260428T170000Z
SUMMARY:Visitation
DESCRIPTION:
URL:https://www.stemmlawsonpeterson.com/obituaries/larry-morr
LOCATION: 1531 Cobblestone Blvd  Elkhart IN 46514
GEO:41.7045964;-85.917141
END:VEVENT
END:VCALENDAR