BEGIN:VCALENDAR
VERSION:2.0
PRODID:-//Tukios.com/
BEGIN:VEVENT
UID:a2ca8869-fdbe-414b-b578-06252b284e49@www.stemmlawsonpeterson.com
DTSTAMP:20260424T194335Z
DTSTART:20260428T170000Z
DTEND:20260428T173000Z
SUMMARY:Funeral Service
DESCRIPTION:
URL:https://www.stemmlawsonpeterson.com/obituaries/larry-morr
LOCATION: 1531 Cobblestone Blvd  Elkhart IN 46514
GEO:41.7045964;-85.917141
END:VEVENT
END:VCALENDAR